Package: RProtoBufLib Version: 2.16.0 Maintainer: Mike Jiang MaintainerEmail: mike at ozette.ai git_url: https://git.bioconductor.org/packages/RProtoBufLib git_branch: RELEASE_3_19 git_last_commit: a731dfd git_last_commit_date: 2024-04-30 10:58:44 -0400 (Tue, 30 Apr 2024)