Package: RPA Version: 1.60.0 Command: E:\biocbuild\bbs-3.19-bioc\R\bin\R.exe CMD INSTALL RPA StartedAt: 2024-10-16 17:05:21 -0400 (Wed, 16 Oct 2024) EndedAt: 2024-10-16 17:06:11 -0400 (Wed, 16 Oct 2024) EllapsedTime: 49.8 seconds RetCode: 0 Status: OK