Package: RPA Version: 1.60.0 Command: chmod a+r RPA -R && E:\biocbuild\bbs-3.19-bioc\R\bin\R.exe CMD build --keep-empty-dirs --no-resave-data RPA StartedAt: 2024-10-16 21:37:35 -0400 (Wed, 16 Oct 2024) EndedAt: 2024-10-16 21:38:13 -0400 (Wed, 16 Oct 2024) EllapsedTime: 38.0 seconds RetCode: 0 Status: OK PackageFile: RPA_1.60.0.tar.gz PackageFileSize: 260.6 KiB