Package: RPA Version: 1.60.0 Command: chmod a+r RPA -R && F:\biocbuild\bbs-3.19-bioc\R\bin\R.exe CMD build --keep-empty-dirs --no-resave-data RPA StartedAt: 2024-06-26 21:31:20 -0400 (Wed, 26 Jun 2024) EndedAt: 2024-06-26 21:31:52 -0400 (Wed, 26 Jun 2024) EllapsedTime: 31.9 seconds RetCode: 0 Status: OK PackageFile: RPA_1.60.0.tar.gz PackageFileSize: 260.6 KiB