Package: RPA Version: 1.60.0 Command: rm -rf RPA.buildbin-libdir && mkdir RPA.buildbin-libdir && F:\biocbuild\bbs-3.19-bioc\R\bin\R.exe CMD INSTALL --build --library=RPA.buildbin-libdir RPA_1.60.0.tar.gz StartedAt: 2024-06-27 08:49:37 -0400 (Thu, 27 Jun 2024) EndedAt: 2024-06-27 08:50:22 -0400 (Thu, 27 Jun 2024) EllapsedTime: 44.8 seconds RetCode: 0 Status: OK PackageFile: RPA_1.60.0.zip PackageFileSize: 393.6 KiB