Package: RPA Version: 1.60.0 Command: /Library/Frameworks/R.framework/Resources/bin/R CMD check --install=check:RPA.install-out.txt --library=/Library/Frameworks/R.framework/Resources/library --no-vignettes --timings RPA_1.60.0.tar.gz StartedAt: 2024-06-09 22:42:57 -0400 (Sun, 09 Jun 2024) EndedAt: 2024-06-09 22:45:34 -0400 (Sun, 09 Jun 2024) EllapsedTime: 156.4 seconds RetCode: 0 Status: OK CheckDir: RPA.Rcheck Warnings: 0