Package: RPA Version: 1.60.0 Command: /Library/Frameworks/R.framework/Resources/bin/R CMD INSTALL RPA StartedAt: 2024-10-16 18:08:08 -0400 (Wed, 16 Oct 2024) EndedAt: 2024-10-16 18:08:31 -0400 (Wed, 16 Oct 2024) EllapsedTime: 23.6 seconds RetCode: 0 Status: OK