Package: RPA Version: 1.60.0 Command: /Library/Frameworks/R.framework/Resources/bin/R CMD check --install=check:RPA.install-out.txt --library=/Library/Frameworks/R.framework/Resources/library --no-vignettes --timings RPA_1.60.0.tar.gz StartedAt: 2024-10-18 10:12:45 -0400 (Fri, 18 Oct 2024) EndedAt: 2024-10-18 10:15:32 -0400 (Fri, 18 Oct 2024) EllapsedTime: 167.5 seconds RetCode: 0 Status: OK CheckDir: RPA.Rcheck Warnings: 0