Package: RPA Version: 1.60.0 Command: /Library/Frameworks/R.framework/Resources/bin/R CMD build --keep-empty-dirs --no-resave-data RPA StartedAt: 2024-10-17 08:00:11 -0400 (Thu, 17 Oct 2024) EndedAt: 2024-10-17 08:00:39 -0400 (Thu, 17 Oct 2024) EllapsedTime: 28.7 seconds RetCode: 0 Status: OK PackageFile: RPA_1.60.0.tar.gz PackageFileSize: 260.5 KiB