Package: RPA Version: 1.60.0 Command: rm -rf RPA.buildbin-libdir && mkdir RPA.buildbin-libdir && /Users/biocbuild/BBS/utils/build-universal.sh RPA_1.60.0.tar.gz /Library/Frameworks/R.framework/Resources/bin/R RPA.buildbin-libdir StartedAt: 2024-10-18 20:26:20 -0400 (Fri, 18 Oct 2024) EndedAt: 2024-10-18 20:26:50 -0400 (Fri, 18 Oct 2024) EllapsedTime: 29.4 seconds RetCode: 0 Status: OK PackageFile: RPA_1.60.0.tgz PackageFileSize: 388.6 KiB