Package: ROntoTools Version: 2.32.0 Command: rm -rf ROntoTools.buildbin-libdir && mkdir ROntoTools.buildbin-libdir && E:\biocbuild\bbs-3.19-bioc\R\bin\R.exe CMD INSTALL --build --library=ROntoTools.buildbin-libdir ROntoTools_2.32.0.tar.gz StartedAt: 2024-10-17 08:31:35 -0400 (Thu, 17 Oct 2024) EndedAt: 2024-10-17 08:32:04 -0400 (Thu, 17 Oct 2024) EllapsedTime: 28.5 seconds RetCode: 0 Status: OK PackageFile: ROntoTools_2.32.0.zip PackageFileSize: 1.476 MiB