Package: ROntoTools Version: 2.32.0 Maintainer: Sorin Draghici MaintainerEmail: sorin at advaitabio.com git_url: https://git.bioconductor.org/packages/ROntoTools git_branch: RELEASE_3_19 git_last_commit: b64b430 git_last_commit_date: 2024-04-30 10:31:13 -0400 (Tue, 30 Apr 2024)