Package: ROTS Version: 1.32.0 Command: /Library/Frameworks/R.framework/Resources/bin/R CMD build --keep-empty-dirs --no-resave-data ROTS StartedAt: 2024-10-16 22:44:15 -0400 (Wed, 16 Oct 2024) EndedAt: 2024-10-16 22:45:08 -0400 (Wed, 16 Oct 2024) EllapsedTime: 52.8 seconds RetCode: 0 Status: OK PackageFile: ROTS_1.32.0.tar.gz PackageFileSize: 454.7 KiB