Package: ROTS Version: 1.32.0 Command: /home/biocbuild/R/R-beta-2024-04-15_r86425/bin/R CMD build --keep-empty-dirs --no-resave-data ROTS StartedAt: 2024-05-09 03:10:17 -0000 (Thu, 09 May 2024) EndedAt: 2024-05-09 03:10:57 -0000 (Thu, 09 May 2024) EllapsedTime: 40.1 seconds RetCode: 0 Status: OK PackageFile: ROTS_1.32.0.tar.gz PackageFileSize: 443 KiB