Package: ROTS Version: 1.32.0 Command: /Library/Frameworks/R.framework/Resources/bin/R CMD check --install=check:ROTS.install-out.txt --library=/Library/Frameworks/R.framework/Resources/library --no-vignettes --timings ROTS_1.32.0.tar.gz StartedAt: 2024-10-18 10:12:23 -0400 (Fri, 18 Oct 2024) EndedAt: 2024-10-18 10:13:30 -0400 (Fri, 18 Oct 2024) EllapsedTime: 67.4 seconds RetCode: 0 Status: OK CheckDir: ROTS.Rcheck Warnings: 0