Package: ROTS Version: 1.32.0 Command: rm -rf ROTS.buildbin-libdir && mkdir ROTS.buildbin-libdir && /Users/biocbuild/BBS/utils/build-universal.sh ROTS_1.32.0.tar.gz /Library/Frameworks/R.framework/Resources/bin/R ROTS.buildbin-libdir StartedAt: 2024-10-18 20:26:01 -0400 (Fri, 18 Oct 2024) EndedAt: 2024-10-18 20:26:20 -0400 (Fri, 18 Oct 2024) EllapsedTime: 19.5 seconds RetCode: 0 Status: OK PackageFile: ROTS_1.32.0.tgz PackageFileSize: 525.1 KiB