Package: ROTS Version: 1.32.0 Maintainer: Tomi Suomi MaintainerEmail: tomi.suomi at utu.fi git_url: https://git.bioconductor.org/packages/ROTS git_branch: RELEASE_3_19 git_last_commit: d74c792 git_last_commit_date: 2024-04-30 10:47:59 -0400 (Tue, 30 Apr 2024)