Package: ROSeq Version: 1.16.0 Command: E:\biocbuild\bbs-3.19-bioc\R\bin\R.exe CMD check --no-multiarch --install=check:ROSeq.install-out.txt --library=E:\biocbuild\bbs-3.19-bioc\R\library --no-vignettes --timings ROSeq_1.16.0.tar.gz StartedAt: 2024-10-17 05:12:58 -0400 (Thu, 17 Oct 2024) EndedAt: 2024-10-17 05:19:01 -0400 (Thu, 17 Oct 2024) EllapsedTime: 363.1 seconds RetCode: 0 Status: WARNINGS CheckDir: ROSeq.Rcheck Warnings: 1