Package: ROSeq Version: 1.16.0 Command: chmod a+r ROSeq -R && F:\biocbuild\bbs-3.19-bioc\R\bin\R.exe CMD build --keep-empty-dirs --no-resave-data ROSeq StartedAt: 2024-06-26 21:31:07 -0400 (Wed, 26 Jun 2024) EndedAt: 2024-06-26 21:35:46 -0400 (Wed, 26 Jun 2024) EllapsedTime: 278.4 seconds RetCode: 0 Status: OK PackageFile: ROSeq_1.16.0.tar.gz PackageFileSize: 4.192 MiB