Package: ROSeq Version: 1.16.0 Command: /home/biocbuild/bbs-3.19-bioc/R/bin/R CMD build --keep-empty-dirs --no-resave-data ROSeq StartedAt: 2024-10-16 20:32:28 -0400 (Wed, 16 Oct 2024) EndedAt: 2024-10-16 20:34:57 -0400 (Wed, 16 Oct 2024) EllapsedTime: 149.4 seconds RetCode: 0 Status: OK PackageFile: ROSeq_1.16.0.tar.gz PackageFileSize: 4.19 MiB