Package: ROSeq Version: 1.16.0 Command: rm -rf ROSeq.buildbin-libdir && mkdir ROSeq.buildbin-libdir && /Users/biocbuild/BBS/utils/build-universal.sh ROSeq_1.16.0.tar.gz /Library/Frameworks/R.framework/Resources/bin/R ROSeq.buildbin-libdir StartedAt: 2024-10-17 17:02:59 -0400 (Thu, 17 Oct 2024) EndedAt: 2024-10-17 17:03:22 -0400 (Thu, 17 Oct 2024) EllapsedTime: 23.6 seconds RetCode: 0 Status: OK PackageFile: ROSeq_1.16.0.tgz PackageFileSize: 7.209 MiB