Package: ROSeq Version: 1.16.0 Command: /home/biocbuild/R/R-beta-2024-04-15_r86425/bin/R CMD INSTALL ROSeq StartedAt: 2024-05-08 20:12:03 -0000 (Wed, 08 May 2024) EndedAt: 2024-05-08 20:12:15 -0000 (Wed, 08 May 2024) EllapsedTime: 11.4 seconds RetCode: 0 Status: OK