Package: ROSeq Version: 1.16.0 Command: /Library/Frameworks/R.framework/Resources/bin/R CMD check --install=check:ROSeq.install-out.txt --library=/Library/Frameworks/R.framework/Resources/library --no-vignettes --timings ROSeq_1.16.0.tar.gz StartedAt: 2024-06-11 03:40:29 -0400 (Tue, 11 Jun 2024) EndedAt: 2024-06-11 03:46:08 -0400 (Tue, 11 Jun 2024) EllapsedTime: 339.5 seconds RetCode: 0 Status: WARNINGS CheckDir: ROSeq.Rcheck Warnings: 1