Package: ROSeq Version: 1.16.0 Command: /Library/Frameworks/R.framework/Resources/bin/R CMD build --keep-empty-dirs --no-resave-data ROSeq StartedAt: 2024-06-10 03:46:10 -0400 (Mon, 10 Jun 2024) EndedAt: 2024-06-10 03:50:36 -0400 (Mon, 10 Jun 2024) EllapsedTime: 265.7 seconds RetCode: 0 Status: OK PackageFile: ROSeq_1.16.0.tar.gz PackageFileSize: 4.191 MiB