Package: ROSeq Version: 1.16.0 Command: /Library/Frameworks/R.framework/Resources/bin/R CMD check --install=check:ROSeq.install-out.txt --library=/Library/Frameworks/R.framework/Resources/library --no-vignettes --timings ROSeq_1.16.0.tar.gz StartedAt: 2024-10-18 10:11:34 -0400 (Fri, 18 Oct 2024) EndedAt: 2024-10-18 10:16:01 -0400 (Fri, 18 Oct 2024) EllapsedTime: 267.6 seconds RetCode: 0 Status: WARNINGS CheckDir: ROSeq.Rcheck Warnings: 1