Package: ROSeq Version: 1.16.0 Command: /Library/Frameworks/R.framework/Resources/bin/R CMD build --keep-empty-dirs --no-resave-data ROSeq StartedAt: 2024-10-17 07:59:48 -0400 (Thu, 17 Oct 2024) EndedAt: 2024-10-17 08:03:49 -0400 (Thu, 17 Oct 2024) EllapsedTime: 241.0 seconds RetCode: 0 Status: OK PackageFile: ROSeq_1.16.0.tar.gz PackageFileSize: 4.191 MiB