Package: ROCpAI Version: 1.16.0 Command: /home/biocbuild/bbs-3.19-bioc/R/bin/R CMD check --install=check:ROCpAI.install-out.txt --library=/home/biocbuild/bbs-3.19-bioc/R/site-library --timings ROCpAI_1.16.0.tar.gz StartedAt: 2024-09-16 02:57:15 -0400 (Mon, 16 Sep 2024) EndedAt: 2024-09-16 02:59:41 -0400 (Mon, 16 Sep 2024) EllapsedTime: 146.3 seconds RetCode: 0 Status: OK CheckDir: ROCpAI.Rcheck Warnings: 0