Package: ROCpAI Version: 1.16.0 Command: /home/biocbuild/bbs-3.19-bioc/R/bin/R CMD build --keep-empty-dirs --no-resave-data ROCpAI StartedAt: 2024-10-16 20:31:59 -0400 (Wed, 16 Oct 2024) EndedAt: 2024-10-16 20:32:28 -0400 (Wed, 16 Oct 2024) EllapsedTime: 29.1 seconds RetCode: 1 Status: ERROR PackageFile: None PackageFileSize: NA