Package: ROCpAI Version: 1.16.0 Command: /Library/Frameworks/R.framework/Resources/bin/R CMD INSTALL ROCpAI StartedAt: 2024-10-16 16:13:36 -0400 (Wed, 16 Oct 2024) EndedAt: 2024-10-16 16:14:25 -0400 (Wed, 16 Oct 2024) EllapsedTime: 48.8 seconds RetCode: 0 Status: OK