Package: ROC Version: 1.80.0 Command: /home/biocbuild/bbs-3.19-bioc/R/bin/R CMD INSTALL ROC StartedAt: 2024-10-16 15:52:57 -0400 (Wed, 16 Oct 2024) EndedAt: 2024-10-16 15:53:06 -0400 (Wed, 16 Oct 2024) EllapsedTime: 8.8 seconds RetCode: 0 Status: OK