Package: ROC Version: 1.80.0 Command: /home/biocbuild/bbs-3.19-bioc/R/bin/R CMD check --install=check:ROC.install-out.txt --library=/home/biocbuild/bbs-3.19-bioc/R/site-library --timings ROC_1.80.0.tar.gz StartedAt: 2024-10-17 04:31:04 -0400 (Thu, 17 Oct 2024) EndedAt: 2024-10-17 04:31:24 -0400 (Thu, 17 Oct 2024) EllapsedTime: 20.0 seconds RetCode: 0 Status: OK CheckDir: ROC.Rcheck Warnings: 0