Package: ROC Version: 1.80.0 Command: /Library/Frameworks/R.framework/Resources/bin/R CMD build --keep-empty-dirs --no-resave-data ROC StartedAt: 2024-10-16 22:42:50 -0400 (Wed, 16 Oct 2024) EndedAt: 2024-10-16 22:43:02 -0400 (Wed, 16 Oct 2024) EllapsedTime: 12.1 seconds RetCode: 0 Status: OK PackageFile: ROC_1.80.0.tar.gz PackageFileSize: 251.1 KiB