Package: ROC Version: 1.80.0 Command: /Library/Frameworks/R.framework/Resources/bin/R CMD check --install=check:ROC.install-out.txt --library=/Library/Frameworks/R.framework/Resources/library --no-vignettes --timings ROC_1.80.0.tar.gz StartedAt: 2024-10-18 10:07:45 -0400 (Fri, 18 Oct 2024) EndedAt: 2024-10-18 10:08:13 -0400 (Fri, 18 Oct 2024) EllapsedTime: 28.3 seconds RetCode: 0 Status: OK CheckDir: ROC.Rcheck Warnings: 0