Package: RNAseqCovarImpute Version: 1.2.0 Command: chmod a+r RNAseqCovarImpute -R && E:\biocbuild\bbs-3.19-bioc\R\bin\R.exe CMD build --keep-empty-dirs --no-resave-data RNAseqCovarImpute StartedAt: 2024-10-16 21:34:59 -0400 (Wed, 16 Oct 2024) EndedAt: 2024-10-16 21:36:27 -0400 (Wed, 16 Oct 2024) EllapsedTime: 88.1 seconds RetCode: 0 Status: OK PackageFile: RNAseqCovarImpute_1.2.0.tar.gz PackageFileSize: 768.5 KiB