Package: RNAseqCovarImpute Version: 1.2.0 Command: rm -rf RNAseqCovarImpute.buildbin-libdir && mkdir RNAseqCovarImpute.buildbin-libdir && E:\biocbuild\bbs-3.19-bioc\R\bin\R.exe CMD INSTALL --build --library=RNAseqCovarImpute.buildbin-libdir RNAseqCovarImpute_1.2.0.tar.gz StartedAt: 2024-10-17 08:31:10 -0400 (Thu, 17 Oct 2024) EndedAt: 2024-10-17 08:31:27 -0400 (Thu, 17 Oct 2024) EllapsedTime: 17.0 seconds RetCode: 0 Status: OK PackageFile: RNAseqCovarImpute_1.2.0.zip PackageFileSize: 809.3 KiB