Package: RNAseqCovarImpute Version: 1.2.0 Command: /home/biocbuild/bbs-3.19-bioc/R/bin/R CMD build --keep-empty-dirs --no-resave-data RNAseqCovarImpute StartedAt: 2024-10-16 20:30:39 -0400 (Wed, 16 Oct 2024) EndedAt: 2024-10-16 20:31:28 -0400 (Wed, 16 Oct 2024) EllapsedTime: 49.1 seconds RetCode: 0 Status: OK PackageFile: RNAseqCovarImpute_1.2.0.tar.gz PackageFileSize: 767.8 KiB