Package: RNAseqCovarImpute Version: 1.2.0 Command: rm -rf RNAseqCovarImpute.buildbin-libdir && mkdir RNAseqCovarImpute.buildbin-libdir && /Users/biocbuild/BBS/utils/build-universal.sh RNAseqCovarImpute_1.2.0.tar.gz /Library/Frameworks/R.framework/Resources/bin/R RNAseqCovarImpute.buildbin-libdir StartedAt: 2024-10-17 17:02:06 -0400 (Thu, 17 Oct 2024) EndedAt: 2024-10-17 17:02:36 -0400 (Thu, 17 Oct 2024) EllapsedTime: 29.7 seconds RetCode: 0 Status: OK PackageFile: RNAseqCovarImpute_1.2.0.tgz PackageFileSize: 799.4 KiB