Package: RNAseqCovarImpute Version: 1.2.0 Command: /Library/Frameworks/R.framework/Resources/bin/R CMD INSTALL RNAseqCovarImpute StartedAt: 2024-10-16 17:58:55 -0400 (Wed, 16 Oct 2024) EndedAt: 2024-10-16 17:59:08 -0400 (Wed, 16 Oct 2024) EllapsedTime: 13.2 seconds RetCode: 0 Status: OK