Package: RNAsense Version: 1.18.0 Command: E:\biocbuild\bbs-3.19-bioc\R\bin\R.exe CMD INSTALL RNAsense StartedAt: 2024-10-16 16:22:14 -0400 (Wed, 16 Oct 2024) EndedAt: 2024-10-16 16:22:40 -0400 (Wed, 16 Oct 2024) EllapsedTime: 26.5 seconds RetCode: 0 Status: OK