Package: RNAsense Version: 1.18.0 Command: E:\biocbuild\bbs-3.19-bioc\R\bin\R.exe CMD check --no-multiarch --install=check:RNAsense.install-out.txt --library=E:\biocbuild\bbs-3.19-bioc\R\library --no-vignettes --timings RNAsense_1.18.0.tar.gz StartedAt: 2024-10-17 05:10:16 -0400 (Thu, 17 Oct 2024) EndedAt: 2024-10-17 05:25:54 -0400 (Thu, 17 Oct 2024) EllapsedTime: 937.9 seconds RetCode: 0 Status: WARNINGS CheckDir: RNAsense.Rcheck Warnings: 1