Package: RNAsense Version: 1.18.0 Command: rm -rf RNAsense.buildbin-libdir && mkdir RNAsense.buildbin-libdir && E:\biocbuild\bbs-3.19-bioc\R\bin\R.exe CMD INSTALL --build --library=RNAsense.buildbin-libdir RNAsense_1.18.0.tar.gz StartedAt: 2024-10-17 08:31:01 -0400 (Thu, 17 Oct 2024) EndedAt: 2024-10-17 08:31:31 -0400 (Thu, 17 Oct 2024) EllapsedTime: 29.8 seconds RetCode: 0 Status: OK PackageFile: RNAsense_1.18.0.zip PackageFileSize: 877.7 KiB