Package: RNAsense Version: 1.18.0 Command: /home/biocbuild/bbs-3.19-bioc/R/bin/R CMD INSTALL RNAsense StartedAt: 2024-10-16 15:59:57 -0400 (Wed, 16 Oct 2024) EndedAt: 2024-10-16 16:00:18 -0400 (Wed, 16 Oct 2024) EllapsedTime: 21.0 seconds RetCode: 0 Status: OK