Package: RNAsense Version: 1.18.0 Command: /home/biocbuild/R/R-beta-2024-04-15_r86425/bin/R CMD build --keep-empty-dirs --no-resave-data RNAsense StartedAt: 2024-05-09 03:06:31 -0000 (Thu, 09 May 2024) EndedAt: 2024-05-09 03:13:50 -0000 (Thu, 09 May 2024) EllapsedTime: 438.6 seconds RetCode: 0 Status: OK PackageFile: RNAsense_1.18.0.tar.gz PackageFileSize: 848.9 KiB