Package: RNAsense Version: 1.18.0 Command: /Library/Frameworks/R.framework/Resources/bin/R CMD INSTALL RNAsense StartedAt: 2024-06-09 15:29:22 -0400 (Sun, 09 Jun 2024) EndedAt: 2024-06-09 15:29:53 -0400 (Sun, 09 Jun 2024) EllapsedTime: 30.5 seconds RetCode: 0 Status: OK