Package: RNAsense Version: 1.18.0 Command: /Library/Frameworks/R.framework/Resources/bin/R CMD build --keep-empty-dirs --no-resave-data RNAsense StartedAt: 2024-06-10 03:39:23 -0400 (Mon, 10 Jun 2024) EndedAt: 2024-06-10 03:46:10 -0400 (Mon, 10 Jun 2024) EllapsedTime: 407.1 seconds RetCode: 0 Status: OK PackageFile: RNAsense_1.18.0.tar.gz PackageFileSize: 911.6 KiB