Package: RNAsense Version: 1.18.0 Command: rm -rf RNAsense.buildbin-libdir && mkdir RNAsense.buildbin-libdir && /Users/biocbuild/BBS/utils/build-universal.sh RNAsense_1.18.0.tar.gz /Library/Frameworks/R.framework/Resources/bin/R RNAsense.buildbin-libdir StartedAt: 2024-06-11 12:54:45 -0400 (Tue, 11 Jun 2024) EndedAt: 2024-06-11 12:55:33 -0400 (Tue, 11 Jun 2024) EllapsedTime: 47.8 seconds RetCode: 0 Status: OK PackageFile: RNAsense_1.18.0.tgz PackageFileSize: 948.8 KiB