Package: RNAsense Version: 1.18.0 Maintainer: Marcus Rosenblatt MaintainerEmail: marcus.rosenblatt at gmail.com git_url: https://git.bioconductor.org/packages/RNAsense git_branch: RELEASE_3_19 git_last_commit: 3f6e431 git_last_commit_date: 2024-04-30 11:19:01 -0400 (Tue, 30 Apr 2024)