Package: RNAmodR Version: 1.18.0 Command: rm -rf RNAmodR.buildbin-libdir && mkdir RNAmodR.buildbin-libdir && E:\biocbuild\bbs-3.19-bioc\R\bin\R.exe CMD INSTALL --build --library=RNAmodR.buildbin-libdir RNAmodR_1.18.0.tar.gz StartedAt: 2024-10-17 08:30:45 -0400 (Thu, 17 Oct 2024) EndedAt: 2024-10-17 08:33:04 -0400 (Thu, 17 Oct 2024) EllapsedTime: 138.9 seconds RetCode: 0 Status: OK PackageFile: RNAmodR_1.18.0.zip PackageFileSize: 2.743 MiB