Package: RNAmodR Version: 1.18.0 Command: /home/biocbuild/bbs-3.19-bioc/R/bin/R CMD INSTALL RNAmodR StartedAt: 2024-10-16 16:21:50 -0400 (Wed, 16 Oct 2024) EndedAt: 2024-10-16 16:22:58 -0400 (Wed, 16 Oct 2024) EllapsedTime: 68.3 seconds RetCode: 0 Status: OK