Package: RNAmodR Version: 1.18.0 Command: /home/biocbuild/bbs-3.19-bioc/R/bin/R CMD build --keep-empty-dirs --no-resave-data RNAmodR StartedAt: 2024-10-16 20:29:32 -0400 (Wed, 16 Oct 2024) EndedAt: 2024-10-16 20:32:33 -0400 (Wed, 16 Oct 2024) EllapsedTime: 180.5 seconds RetCode: 0 Status: OK PackageFile: RNAmodR_1.18.0.tar.gz PackageFileSize: 1.451 MiB